BEGIN:VCALENDAR
VERSION:2.0
PRODID:-//ChamberMaster//Event Calendar 2.0//EN
METHOD:PUBLISH
X-PUBLISHED-TTL:P3D
REFRESH-INTERVAL:P3D
CALSCALE:GREGORIAN
BEGIN:VEVENT
DTSTART:20140916T140000Z
DTEND:20140916T143000Z
X-MICROSOFT-CDO-ALLDAYEVENT:FALSE
SUMMARY:Ribbon Cutting - YWCA
DESCRIPTION:Join us to celebrate the complete renovation of the YWCA building!  We will be holding a ribbon cutting at 9am at the YWCA\, located at 1109 N. Main St.
X-ALT-DESC;FMTTYPE=text/html:Join us to celebrate the complete renovation of the YWCA building!&nbsp\; We will be holding a ribbon cutting at 9am at the YWCA\, located at 1109 N. Main St.
LOCATION:1109 N. Main St.
UID:e.1624.1213
SEQUENCE:3
DTSTAMP:20260421T113626Z
URL:https://business.mitchellchamber.com/events/details/ribbon-cutting-ywca-09-16-2014-1213
END:VEVENT

END:VCALENDAR
