BEGIN:VCALENDAR
VERSION:2.0
PRODID:-//ChamberMaster//Event Calendar 2.0//EN
METHOD:PUBLISH
X-PUBLISHED-TTL:P3D
REFRESH-INTERVAL:P3D
CALSCALE:GREGORIAN
BEGIN:VEVENT
DTSTART:20221027T200000Z
DTEND:20221027T203000Z
X-MICROSOFT-CDO-ALLDAYEVENT:FALSE
SUMMARY:Ribbon Cutting - Your Shop
DESCRIPTION:Connect Mitchell will hold a Ribbon Cutting Ceremony for Your Shop - new to downtown Mitchell\, located at 304 N Main St - on Thursday\, October 27th at 3 p.m. \n\n\n\nOwner\, Tanya Kitto\, is a recent graduate of the entrepreneurial pilot program from the Mitchell Chamber of Commerce\, CO. STARTERS! Your Shop is a makerspace\; a place people can use their tools to make their crafting ideas come to life. They also have a retail area to purchase completed hand-crafted items or kits for you to take home! Come check it out!
X-ALT-DESC;FMTTYPE=text/html:<em>Connect Mitchell</em>&nbsp\;will hold a Ribbon Cutting Ceremony for Your Shop - new to downtown Mitchell\, located at 304 N Main St - on Thursday\, October 27th at 3 p.m.&nbsp\;<br />\n<br />\nOwner\, Tanya Kitto\, is a recent graduate of the entrepreneurial pilot program from the Mitchell Chamber of Commerce\, CO. STARTERS! Your Shop is a makerspace\; a place people can use their tools to make their crafting ideas come to life. They also have a retail area to purchase completed hand-crafted items or kits for you to take home! Come check it out!
LOCATION:Your Shop 304 N Main St Mitchell\, SD 57301
UID:e.1624.32874
SEQUENCE:3
DTSTAMP:20260421T170322Z
URL:https://business.mitchellchamber.com/events/details/ribbon-cutting-your-shop-32874
END:VEVENT

END:VCALENDAR
