BEGIN:VCALENDAR
VERSION:2.0
PRODID:-//ChamberMaster//Event Calendar 2.0//EN
METHOD:PUBLISH
X-PUBLISHED-TTL:P3D
REFRESH-INTERVAL:P3D
CALSCALE:GREGORIAN
BEGIN:VEVENT
DTSTART:20140601T183000Z
DTEND:20140601T190000Z
X-MICROSOFT-CDO-ALLDAYEVENT:FALSE
SUMMARY:Ribbon Cutting - Wesley Acres
DESCRIPTION:A ribbon cutting will be held at Wesley Acres on Saturday\, June 1st at 1:30pm with an open house to follow.
X-ALT-DESC;FMTTYPE=text/html:A ribbon cutting will be held at Wesley Acres on Saturday\, June 1st at 1:30pm with an open house to follow.
LOCATION:Wesley Acres\, 1115 W. Havens St.\, Mitchell
UID:e.1624.1164
SEQUENCE:3
DTSTAMP:20260421T170423Z
URL:https://business.mitchellchamber.com/events/details/ribbon-cutting-wesley-acres-06-01-2014-1164
END:VEVENT

END:VCALENDAR
