BEGIN:VCALENDAR
VERSION:2.0
PRODID:-//ChamberMaster//Event Calendar 2.0//EN
METHOD:PUBLISH
X-PUBLISHED-TTL:P3D
REFRESH-INTERVAL:P3D
CALSCALE:GREGORIAN
BEGIN:VEVENT
DTSTART:20140425T210000Z
DTEND:20140425T213000Z
X-MICROSOFT-CDO-ALLDAYEVENT:FALSE
SUMMARY:Ribbon Cutting - The Pin Cushion
DESCRIPTION:The Pin Cushion\, located at 117 N. Lawler St.\, will be holding a ribbon cutting on Friday\, April 25th at 4pm.
X-ALT-DESC;FMTTYPE=text/html:The Pin Cushion\, located at 117 N. Lawler St.\, will be holding a ribbon cutting on Friday\, April 25th at 4pm.&nbsp\;
LOCATION:117 N. Lawler St.\, Mitchell\, SD
UID:e.1624.1145
SEQUENCE:3
DTSTAMP:20260421T202219Z
URL:https://business.mitchellchamber.com/events/details/ribbon-cutting-the-pin-cushion-04-25-2014-1145
END:VEVENT

END:VCALENDAR
