BEGIN:VCALENDAR
VERSION:2.0
PRODID:-//ChamberMaster//Event Calendar 2.0//EN
METHOD:PUBLISH
X-PUBLISHED-TTL:P3D
REFRESH-INTERVAL:P3D
CALSCALE:GREGORIAN
BEGIN:VEVENT
DTSTART:20220429T140000Z
DTEND:20220429T170000Z
X-MICROSOFT-CDO-ALLDAYEVENT:FALSE
SUMMARY:Ribbon Cutting - Runnings
DESCRIPTION:Connect Mitchell with the Mitchell Chamber of Commerce will be holding a Ribbon Cutting ceremony at Runnings on Friday\, April 29\, 2022 @ 9 a.m. to celebrate their new location and 75th year of business!\n\n\n\nRunnings is a general merchandise retailer with 57 stores across 8 states. Their products and services cater to customers who live and love the outdoor lifestyle - from farmers to homeowners\, pet owners to gardeners\, hunters to fishermen. They are your home\, farm\, and outdoor store!
X-ALT-DESC;FMTTYPE=text/html:<em>Connect Mitchell</em>&nbsp\;with the Mitchell Chamber of Commerce will be holding a Ribbon Cutting ceremony at Runnings on Friday\, April 29\, 2022 @ 9 a.m. to celebrate their new location and 75th year of business!<br />\n<br />\nRunnings is a general merchandise retailer with 57 stores across 8 states. Their products and services cater to customers who live and love the outdoor lifestyle - from farmers to homeowners\, pet owners to gardeners\, hunters to fishermen. They are your home\, farm\, and outdoor store!
LOCATION:1313 S Burr St Mitchell\, SD 57301
UID:e.1624.32198
SEQUENCE:3
DTSTAMP:20260422T032316Z
URL:https://business.mitchellchamber.com/events/details/ribbon-cutting-runnings-32198
END:VEVENT

END:VCALENDAR
