BEGIN:VCALENDAR
VERSION:2.0
PRODID:-//ChamberMaster//Event Calendar 2.0//EN
METHOD:PUBLISH
X-PUBLISHED-TTL:P3D
REFRESH-INTERVAL:P3D
CALSCALE:GREGORIAN
BEGIN:VEVENT
DTSTART:20140520T223000Z
DTEND:20140520T233000Z
X-MICROSOFT-CDO-ALLDAYEVENT:FALSE
SUMMARY:Ribbon Cutting & Open House - Granite Springs Lodge
DESCRIPTION:Granite Springs Lodge is hosting a ribbon cutting to be followed by an Open House and tours of their grounds and facility!  Join us on Tuesday\, May 20th at 5:30pm for the ribbon cutting and stick around to see the facilities.
X-ALT-DESC;FMTTYPE=text/html:Granite Springs Lodge is hosting a ribbon cutting to be followed by an Open House and tours of their grounds and facility!&nbsp\; Join us on Tuesday\, May 20th at 5:30pm for the ribbon cutting and stick around to see the facilities.
LOCATION:Granite Springs Lodge\, 25840 422nd Ave.\, Alexandria\, SD.
UID:e.1624.1160
SEQUENCE:3
DTSTAMP:20260421T184340Z
URL:https://business.mitchellchamber.com/events/details/ribbon-cutting-open-house-granite-springs-lodge-05-20-2014-1160
END:VEVENT

END:VCALENDAR
