BEGIN:VCALENDAR
VERSION:2.0
PRODID:-//ChamberMaster//Event Calendar 2.0//EN
METHOD:PUBLISH
X-PUBLISHED-TTL:P3D
REFRESH-INTERVAL:P3D
CALSCALE:GREGORIAN
BEGIN:VEVENT
DTSTART:20220713T210000Z
DTEND:20220713T213000Z
X-MICROSOFT-CDO-ALLDAYEVENT:FALSE
SUMMARY:Ribbon Cutting - Nedved Media
DESCRIPTION:Join Connect Mitchell for a Ribbon Cutting Ceremony for Nedved Media on Wednesday\, July 13 at 4 p.m.\n\n\n\nNedved Media LLC includes KORN News Radio\, Q107.3\, and KORN Country 92.1. They are celebrating 75 years on the air!
X-ALT-DESC;FMTTYPE=text/html:Join Connect Mitchell for a Ribbon Cutting Ceremony for Nedved Media on Wednesday\, July 13 at 4 p.m.<br />\n<br />\nNedved Media LLC includes KORN News Radio\, Q107.3\, and KORN Country 92.1. They are celebrating 75 years on the air!
LOCATION:723 N Rowley Mitchell\, SD 57301
UID:e.1624.32654
SEQUENCE:3
DTSTAMP:20260421T221028Z
URL:https://business.mitchellchamber.com/events/details/ribbon-cutting-nedved-media-32654
END:VEVENT

END:VCALENDAR
