BEGIN:VCALENDAR
VERSION:2.0
PRODID:-//ChamberMaster//Event Calendar 2.0//EN
METHOD:PUBLISH
X-PUBLISHED-TTL:P3D
REFRESH-INTERVAL:P3D
CALSCALE:GREGORIAN
BEGIN:VEVENT
DTSTART:20240226T170000Z
DTEND:20240226T173000Z
X-MICROSOFT-CDO-ALLDAYEVENT:FALSE
SUMMARY:Ribbon Cutting - Massage and Wellness Center
DESCRIPTION:Please join the Mitchell Area Chamber of Commerce Connect Mitchell Committee for a Ribbon Cutting Ceremony at the Massage and Wellness Center on Monday\, Feb. 26 at 11 a.m. \n\n\n\nThe Massage and Wellness Center\, located at 1820 N Kimball Suite #3 in Mitchell\, will be hosting an open house on Feb. 26 from 10 a.m. to 4 p.m. The community is welcome to stop by during that time to check out the space\, enjoy charcuterie and snacks\, and book your next treatment! The Chamber will be there at 11 a.m. to welcome this business back into our membership with a ribbon cutting ceremony. All are welcome to attend!
X-ALT-DESC;FMTTYPE=text/html:Please join the Mitchell Area Chamber of Commerce <em>Connect Mitchell Committee</em>&nbsp\;for a Ribbon Cutting Ceremony at the Massage and Wellness Center on Monday\, Feb. 26 at 11 a.m.&nbsp\;<br />\n<br />\nThe Massage and Wellness Center\, located at 1820 N Kimball Suite #3 in Mitchell\, will be hosting an open house on Feb. 26 from 10 a.m. to 4 p.m. The community is welcome to stop by during that time to check out the space\, enjoy charcuterie and snacks\, and book your next treatment! The Chamber will be there at 11 a.m. to welcome this business back into our membership with a ribbon cutting ceremony. All are welcome to attend!
LOCATION:Massage and Wellness Center 1820 N Kimball Suite #3 Mitchell\, SD 57301
UID:e.1624.35889
SEQUENCE:3
DTSTAMP:20260420T161206Z
URL:https://business.mitchellchamber.com/events/details/ribbon-cutting-massage-and-wellness-center-35889
END:VEVENT

END:VCALENDAR
