BEGIN:VCALENDAR
VERSION:2.0
PRODID:-//ChamberMaster//Event Calendar 2.0//EN
METHOD:PUBLISH
X-PUBLISHED-TTL:P3D
REFRESH-INTERVAL:P3D
CALSCALE:GREGORIAN
BEGIN:VEVENT
DTSTART:20140425T213000Z
DTEND:20140425T220000Z
X-MICROSOFT-CDO-ALLDAYEVENT:FALSE
SUMMARY:Ribbon Cutting - Liquid Designz
DESCRIPTION:Liquid Designz\, located at 135 S. Kimball\, will be holding a ribbon cutting on Friday\, April 25th at 4:30pm.
X-ALT-DESC;FMTTYPE=text/html:Liquid Designz\, located at 135 S. Kimball\, will be holding a ribbon cutting on Friday\, April 25th at 4:30pm.&nbsp\;
LOCATION:135 S. Kimball St.\, Mitchell\, SD
UID:e.1624.1146
SEQUENCE:3
DTSTAMP:20260421T202028Z
URL:https://business.mitchellchamber.com/events/details/ribbon-cutting-liquid-designz-04-25-2014-1146
END:VEVENT

END:VCALENDAR
