BEGIN:VCALENDAR
VERSION:2.0
PRODID:-//ChamberMaster//Event Calendar 2.0//EN
METHOD:PUBLISH
X-PUBLISHED-TTL:P3D
REFRESH-INTERVAL:P3D
CALSCALE:GREGORIAN
BEGIN:VEVENT
DTSTART:20141010T223000Z
DTEND:20141010T230000Z
X-MICROSOFT-CDO-ALLDAYEVENT:FALSE
SUMMARY:Ribbon Cutting - Kilstrom Center Dedication
DESCRIPTION:Join us for a ribbon cutting and dedication ceremony for the newly named "Kilstrom Center" of LifeQuest\, located at 804 N. Mentzer St.  A celebration will be held from 4:30-6:30 with the program to begin at 5:30pm.
X-ALT-DESC;FMTTYPE=text/html:Join us for a ribbon cutting and dedication ceremony for the newly named &quot\;Kilstrom Center&quot\; of LifeQuest\, located at 804 N. Mentzer St.&nbsp\; A celebration will be held from 4:30-6:30 with the program to begin at 5:30pm.
LOCATION:804 N. Mentzer St.\, Mitchell
UID:e.1624.1240
SEQUENCE:3
DTSTAMP:20260421T101050Z
URL:https://business.mitchellchamber.com/events/details/ribbon-cutting-kilstrom-center-dedication-10-10-2014-1240
END:VEVENT

END:VCALENDAR
