BEGIN:VCALENDAR
VERSION:2.0
PRODID:-//ChamberMaster//Event Calendar 2.0//EN
METHOD:PUBLISH
X-PUBLISHED-TTL:P3D
REFRESH-INTERVAL:P3D
CALSCALE:GREGORIAN
BEGIN:VEVENT
DTSTART:20140425T143000Z
DTEND:20140425T150000Z
X-MICROSOFT-CDO-ALLDAYEVENT:FALSE
SUMMARY:Ribbon Cutting - Kids Closet and More
DESCRIPTION:Kids Closet and More\, located at 400 N. Main St.\, will be holding a ribbon cutting on Friday\, April 25th at 9:30am.
X-ALT-DESC;FMTTYPE=text/html:Kids Closet and More\, located at 400 N. Main St.\, will be holding a ribbon cutting on Friday\, April 25th at 9:30am.&nbsp\;
LOCATION:400 N. Main St.\, Mitchell\, SD
UID:e.1624.1157
SEQUENCE:3
DTSTAMP:20260421T202305Z
URL:https://business.mitchellchamber.com/events/details/ribbon-cutting-kids-closet-and-more-04-25-2014-1157
END:VEVENT

END:VCALENDAR
