BEGIN:VCALENDAR
VERSION:2.0
PRODID:-//ChamberMaster//Event Calendar 2.0//EN
METHOD:PUBLISH
X-PUBLISHED-TTL:P3D
REFRESH-INTERVAL:P3D
CALSCALE:GREGORIAN
BEGIN:VEVENT
DTSTART:20171017T153000Z
DTEND:20171018T040000Z
X-MICROSOFT-CDO-ALLDAYEVENT:FALSE
SUMMARY:Ribbon Cutting for Davison County Bridge Improvement Grant Project
DESCRIPTION:Please join us for a Ribbon Cutting Ceremony for the first Bridge Improvement Grant (BIG) project in South Dakota.  This bridge project is the first completed in South Dakota using the BIG funds since the BIG program was created in 2015. The ceremony will take place at 10:30 am followed by refreshments and an opportunity to meet those involved in the project.
X-ALT-DESC;FMTTYPE=text/html:Please join us for a Ribbon Cutting Ceremony for the first Bridge Improvement <span style="font-size:14px\;"><span style="font-family: arial\;">Grant (BIG) project in South Dakota.&nbsp\; This bridge project is the first completed in South Dakota using the BIG funds since the BIG program was created in 2015. The ceremony will take place at 10:30 am followed by refreshments and an opportunity to meet those involved in the project.&nbsp\;</span></span><br />\n&nbsp\;
LOCATION:Approximately mile North of the Avera Hospital on Foster Street
UID:e.1624.9106
SEQUENCE:3
DTSTAMP:20260426T013955Z
URL:https://business.mitchellchamber.com/events/details/ribbon-cutting-for-davison-county-bridge-improvement-grant-project-9106
END:VEVENT

END:VCALENDAR
