BEGIN:VCALENDAR
VERSION:2.0
PRODID:-//ChamberMaster//Event Calendar 2.0//EN
METHOD:PUBLISH
X-PUBLISHED-TTL:P3D
REFRESH-INTERVAL:P3D
CALSCALE:GREGORIAN
BEGIN:VEVENT
DTSTART:20220428T190000Z
DTEND:20220428T193000Z
X-MICROSOFT-CDO-ALLDAYEVENT:FALSE
SUMMARY:Ribbon Cutting - Drake Field
DESCRIPTION:Connect Mitchell with the Mitchell Chamber of Commerce will be holding a Ribbon Cutting ceremony for the City of Mitchell's Parks & Recreation Department on Thursday\, April 28\, 2022 @ 2:00 p.m. to commemorate the installation of the new turf field at Drake Field.\n\n\n\nJoin us along with our Mayor\, City Council members\, and the new Director of Mitchell's Parks & Recreation Department\, Kevin Nelson\, to kick off the start of the spring baseball season!
X-ALT-DESC;FMTTYPE=text/html:<em>Connect Mitchell </em>with the Mitchell Chamber of Commerce will be holding a Ribbon Cutting ceremony for the City of Mitchell&#39\;s Parks &amp\; Recreation Department on Thursday\, April 28\, 2022 @ 2:00 p.m. to commemorate the installation of the new turf field at Drake Field.<br />\n<br />\nJoin us along with our Mayor\, City Council members\, and the new Director of Mitchell&#39\;s Parks &amp\; Recreation Department\, Kevin Nelson\, to kick off the start of the spring baseball season!
LOCATION:Drake Field located at the Cadwell Sports Complex off N Minnesota Street in Mitchell\, SD
UID:e.1624.32488
SEQUENCE:3
DTSTAMP:20260422T032503Z
URL:https://business.mitchellchamber.com/events/details/ribbon-cutting-drake-field-32488
END:VEVENT

END:VCALENDAR
