BEGIN:VCALENDAR
VERSION:2.0
PRODID:-//ChamberMaster//Event Calendar 2.0//EN
METHOD:PUBLISH
X-PUBLISHED-TTL:P3D
REFRESH-INTERVAL:P3D
CALSCALE:GREGORIAN
BEGIN:VEVENT
DTSTART:20250311T210000Z
DTEND:20250311T220000Z
X-MICROSOFT-CDO-ALLDAYEVENT:FALSE
SUMMARY:Ribbon Cutting @ designArc Group
DESCRIPTION:Join the Connect Mitchell Committee of the Mitchell Area Chamber of Commerce as we celebrate designArc Group with a Ribbon Cutting!   \n\n  Date: Tuesday\, March 11\n\n  Time: 4:00 PM\n\n  Location: 308 N Lawler\, Mitchell\n\nCome meet the team\, learn more about their work\, and help us welcome them to the community! Hope to see you there!
X-ALT-DESC;FMTTYPE=text/html:<p>Join the Connect Mitchell Committee of the Mitchell Area Chamber of Commerce as we celebrate designArc Group with a Ribbon Cutting! &#9986\;&#65039\;</p>\n\n<p>&#128197\; Date: Tuesday\, March 11<br />\n&#9200\; Time: 4:00 PM<br />\n&#128205\; Location: 308 N Lawler\, Mitchell</p>\n\n<p>Come meet the team\, learn more about their work\, and help us welcome them to the community! Hope to see you there!&nbsp\;</p>\n
LOCATION:designArc Group 308 N. Lawler St. Mitchell\, SD 57301
UID:e.1624.39456
SEQUENCE:3
DTSTAMP:20260421T131933Z
URL:https://business.mitchellchamber.com/events/details/ribbon-cutting-designarc-group-39456
END:VEVENT

END:VCALENDAR
