BEGIN:VCALENDAR
VERSION:2.0
PRODID:-//ChamberMaster//Event Calendar 2.0//EN
METHOD:PUBLISH
X-PUBLISHED-TTL:P3D
REFRESH-INTERVAL:P3D
CALSCALE:GREGORIAN
BEGIN:VEVENT
DTSTART:20220831T160000Z
DTEND:20220831T190000Z
X-MICROSOFT-CDO-ALLDAYEVENT:FALSE
SUMMARY:Ribbon Cutting - Dale's A-1 Transmission
DESCRIPTION:Connect Mitchell invites you to a Ribbon Cutting at Dale's A-1 Transmission Services on Wednesday\, August 31\, 2022 starting at 11 a.m. to celebrate 40 years in business!\n\n\n\nDale's A-1 will be celebrating their 40th anniversary with an 'Appreciation Lunch' after the ribbon cutting until 2 p.m. Come out for a free brat\, chips\, potato salad\, and drinks!\n\n\n\nDale's A-1 Transmission specializes in all your drivetrain needs. From automatic transmissions\, manual transmissions\, transfer cases\, differentials\, clutches on all your 2WD\, front-wheel drive\, and 4WD specialty and racing transmissions\, new & old transmissions for fleet vehicles\, RV's\, trucks\, SUV's on all foreign and domestic vehicles.
X-ALT-DESC;FMTTYPE=text/html:<em>Connect Mitchell </em>invites you to a Ribbon Cutting at Dale&#39\;s A-1 Transmission Services on Wednesday\, August 31\, 2022 starting at 11 a.m. to celebrate 40 years in business!<br />\n<br />\nDale&#39\;s A-1 will be celebrating their 40th anniversary with an &#39\;Appreciation Lunch&#39\; after the ribbon cutting until 2 p.m. Come out for a free brat\, chips\, potato salad\, and drinks!<br />\n<br />\nDale&#39\;s A-1 Transmission specializes in all your drivetrain needs. From automatic transmissions\, manual transmissions\, transfer cases\, differentials\, clutches on all your 2WD\, front-wheel drive\, and 4WD specialty and racing transmissions\, new &amp\; old transmissions for fleet vehicles\, RV&#39\;s\, trucks\, SUV&#39\;s on all foreign and domestic vehicles.&nbsp\;
LOCATION:1100 S Burr St Mitchell\, SD 57301
UID:e.1624.32684
SEQUENCE:3
DTSTAMP:20260421T202214Z
URL:https://business.mitchellchamber.com/events/details/ribbon-cutting-dale-s-a-1-transmission-32684
END:VEVENT

END:VCALENDAR
