BEGIN:VCALENDAR
VERSION:2.0
PRODID:-//ChamberMaster//Event Calendar 2.0//EN
METHOD:PUBLISH
X-PUBLISHED-TTL:P3D
REFRESH-INTERVAL:P3D
CALSCALE:GREGORIAN
BEGIN:VEVENT
DTSTART:20140328T163000Z
DTEND:20140328T164500Z
X-MICROSOFT-CDO-ALLDAYEVENT:FALSE
SUMMARY:Ribbon Cutting - Copperleaf Townhomes
DESCRIPTION:The Chamber of Commerce will be holding a ribbon cutting for Copperleaf Townhomes\, located at 1605 East 1st Ave.  Copperleaf Townhomes will also be holding open house viewings of one of the units on March 29th and 30th from 12pm-4pm both days.
X-ALT-DESC;FMTTYPE=text/html:The Chamber of Commerce will be holding a ribbon cutting for Copperleaf Townhomes\, located at 1605 East 1st Ave.&nbsp\; Copperleaf Townhomes will also be holding open house viewings of one of the units on March 29th and 30th from 12pm-4pm both days.
LOCATION:1605 East 1st Ave.
UID:e.1624.1136
SEQUENCE:3
DTSTAMP:20260421T221246Z
URL:https://business.mitchellchamber.com/events/details/ribbon-cutting-copperleaf-townhomes-03-28-2014-1136
END:VEVENT

END:VCALENDAR
