BEGIN:VCALENDAR
VERSION:2.0
PRODID:-//ChamberMaster//Event Calendar 2.0//EN
METHOD:PUBLISH
X-PUBLISHED-TTL:P3D
REFRESH-INTERVAL:P3D
CALSCALE:GREGORIAN
BEGIN:VEVENT
DTSTART:20240410T180000Z
DTEND:20240410T190000Z
X-MICROSOFT-CDO-ALLDAYEVENT:FALSE
SUMMARY:Ribbon Cutting - Coborn's Grocery Store
DESCRIPTION:Please join the Mitchell Area Chamber of Commerce Connect Mitchell Committee for a Ribbon Cutting Ceremony at Coborn's Grocery Store on Wednesday\, April 10 at 1 p.m.\n\n\n\nCoborn's is located at 1800 N Main Street in Mitchell. Join us for a ribbon cutting ceremony to celebrate their grand re-opening after 4 months of construction and updates to the store!\n\n\n\nCoborn's\, Inc. is an employee-owned business\, with nearly 10\,000 employees and 77 grocery stores across Minnesota\, North Dakota\, South Dakota\, Wisconsin\, Michigan\, and Illinois. Coborn's strives to live out their vision to be remarkable by inspiring happiness\, healthy living\, and simplicity\, one guest at a time.
X-ALT-DESC;FMTTYPE=text/html:Please join the Mitchell Area Chamber of Commerce <em>Connect Mitchell Committee</em>&nbsp\;for a Ribbon Cutting Ceremony at Coborn&#39\;s Grocery Store on Wednesday\, April 10 at 1 p.m.<br />\n<br />\nCoborn&#39\;s is located at 1800 N Main Street in Mitchell. Join us for a ribbon cutting ceremony to celebrate their grand re-opening after 4 months of construction and updates to the store!<br />\n<br />\nCoborn&#39\;s\, Inc. is an employee-owned business\, with nearly 10\,000 employees and 77 grocery stores across Minnesota\, North Dakota\, South Dakota\, Wisconsin\, Michigan\, and Illinois. Coborn&#39\;s strives to live out their vision to be remarkable by inspiring happiness\, healthy living\, and simplicity\, one guest at a time.&nbsp\;
LOCATION:Coborn's 1800 N Main St Mitchell\, SD 57301
UID:e.1624.36221
SEQUENCE:3
DTSTAMP:20260420T094820Z
URL:https://business.mitchellchamber.com/events/details/ribbon-cutting-coborn-s-grocery-store-36221
END:VEVENT

END:VCALENDAR
