BEGIN:VCALENDAR
VERSION:2.0
PRODID:-//ChamberMaster//Event Calendar 2.0//EN
METHOD:PUBLISH
X-PUBLISHED-TTL:P3D
REFRESH-INTERVAL:P3D
CALSCALE:GREGORIAN
BEGIN:VEVENT
DTSTART:20140227T220000Z
DTEND:20140228T000000Z
X-MICROSOFT-CDO-ALLDAYEVENT:FALSE
SUMMARY:Ribbon Cutting - Avera Medical Group Ophthalmology
DESCRIPTION:A ribbon cutting will be held at Avera Medical Group Ophthalmology at 4pm.  An open house with pie and coffee being served will follow until 6pm.
X-ALT-DESC;FMTTYPE=text/html:A ribbon cutting will be held at Avera Medical Group Ophthalmology at 4pm.&nbsp\; An open house with pie and coffee being served will follow until 6pm.
LOCATION:625 N. Foster\, Suite 202\, Mitchell
UID:e.1624.1101
SEQUENCE:3
DTSTAMP:20260421T235420Z
URL:https://business.mitchellchamber.com/events/details/ribbon-cutting-avera-medical-group-ophthalmology-02-27-2014-1101
END:VEVENT

END:VCALENDAR
