BEGIN:VCALENDAR
VERSION:2.0
PRODID:-//ChamberMaster//Event Calendar 2.0//EN
METHOD:PUBLISH
X-PUBLISHED-TTL:P3D
REFRESH-INTERVAL:P3D
CALSCALE:GREGORIAN
BEGIN:VEVENT
DTSTART:20140610T214500Z
DTEND:20140610T220000Z
X-MICROSOFT-CDO-ALLDAYEVENT:FALSE
SUMMARY:Ribbon Cutting - Avera Health Plans
DESCRIPTION:Avera Health Plans will be holding a ribbon cutting for their new location at 209 N. Lawler St. on Tuesday\, June 10th at 4:45pm.  A Mix & Mingle will follow from 5-7pm.
X-ALT-DESC;FMTTYPE=text/html:Avera Health Plans will be holding a ribbon cutting for their new location at 209 N. Lawler St. on Tuesday\, June 10th at 4:45pm.&nbsp\; A Mix &amp\; Mingle will follow from 5-7pm.
LOCATION:209 N. Lawler St.\, Mitchell
UID:e.1624.1172
SEQUENCE:3
DTSTAMP:20260421T170654Z
URL:https://business.mitchellchamber.com/events/details/ribbon-cutting-avera-health-plans-06-10-2014-1172
END:VEVENT

END:VCALENDAR
