BEGIN:VCALENDAR
VERSION:2.0
PRODID:-//ChamberMaster//Event Calendar 2.0//EN
METHOD:PUBLISH
X-PUBLISHED-TTL:P3D
REFRESH-INTERVAL:P3D
CALSCALE:GREGORIAN
BEGIN:VEVENT
DTSTART:20220707T210000Z
DTEND:20220707T213000Z
X-MICROSOFT-CDO-ALLDAYEVENT:FALSE
SUMMARY:Ribbon Cutting - Avera Brady
DESCRIPTION:Join Connect Mitchell for a Ribbon Cutting Ceremony at Avera Brady on Thursday\, July 7th @ 4 p.m.\n\n\n\nAn open house for employees and the public to see the completed renovation project at Avera Brady Health and Rehabilitation will take place on Thursday\, July 7.\n\n\n\nThe schedule of events will be as follows:\n\n	Ribbon cutting and blessing at 4 p.m.\; and\n	Public tours from 4-5:30 p.m. (they will begin after ceremony)\n\nAttendees should come in through the Administration entrance near the intersection of South Ohlman St. and West Cedar Ave. Snacks and refreshments will be provided. Masks will be required.\n\n\n\nPlease make plans to join us and learn how the renovated neighborhoods\, as well as the new hospice suites and Avera Therapy space\, will enhance the lives of patients and residents.
X-ALT-DESC;FMTTYPE=text/html:Join <em>Connect Mitchell </em>for a Ribbon Cutting Ceremony at Avera Brady on Thursday\, July 7th @ 4 p.m.<br />\n<br />\nAn open house for employees and the public to see the completed renovation project at Avera Brady Health and Rehabilitation will take place on Thursday\, July 7.<br />\n<br />\nThe schedule of events will be as follows:\n<ul>\n	<li>Ribbon cutting and blessing at 4 p.m.\; and</li>\n	<li>Public tours from 4-5:30 p.m. (they will begin after ceremony)</li>\n</ul>\nAttendees should come in through the Administration entrance near the intersection of South Ohlman St. and West Cedar Ave. Snacks and refreshments will be provided. Masks will be required.<br />\n<br />\nPlease make plans to join us and learn how the renovated neighborhoods\, as well as the new hospice suites and Avera Therapy space\, will enhance the lives of patients and residents.&nbsp\;
LOCATION:Avera Brady 500 S Ohlman St Mitchell\, SD 57301
UID:e.1624.32653
SEQUENCE:3
DTSTAMP:20260421T220958Z
URL:https://business.mitchellchamber.com/events/details/ribbon-cutting-avera-brady-32653
END:VEVENT

END:VCALENDAR
