BEGIN:VCALENDAR
VERSION:2.0
PRODID:-//ChamberMaster//Event Calendar 2.0//EN
METHOD:PUBLISH
X-PUBLISHED-TTL:P3D
REFRESH-INTERVAL:P3D
CALSCALE:GREGORIAN
BEGIN:VEVENT
DTSTART:20180515T160000Z
DTEND:20180515T163000Z
X-MICROSOFT-CDO-ALLDAYEVENT:FALSE
SUMMARY:Ribbon Cutting at Wayne & Mary's Nutrition Center
DESCRIPTION:Join us for a Ribbon Cutting Ceremony at Wayne & Mary's Nutrition Center Tuesday\, May 15th at 11:00 am.
X-ALT-DESC;FMTTYPE=text/html:Join us for a Ribbon Cutting Ceremony at Wayne &amp\; Mary&#39\;s Nutrition Center Tuesday\, May 15th at 11:00 am.<br />\n&nbsp\;
LOCATION:Wayne & Mary's Nutrition Center 1313 W Havens Ave Mitchell\, SD
UID:e.1624.15267
SEQUENCE:3
DTSTAMP:20260425T142912Z
URL:https://business.mitchellchamber.com/events/details/ribbon-cutting-at-wayne-mary-s-nutrition-center-15267
END:VEVENT

END:VCALENDAR
