BEGIN:VCALENDAR
VERSION:2.0
PRODID:-//ChamberMaster//Event Calendar 2.0//EN
METHOD:PUBLISH
X-PUBLISHED-TTL:P3D
REFRESH-INTERVAL:P3D
CALSCALE:GREGORIAN
BEGIN:VEVENT
DTSTART:20181115T220000Z
DTEND:20181115T223000Z
X-MICROSOFT-CDO-ALLDAYEVENT:FALSE
SUMMARY:Ribbon Cutting at Envision Eye Care
DESCRIPTION:Join us for a Ribbon Cutting celebration at Envision Eye Care.  This event is free and open to the public.
X-ALT-DESC;FMTTYPE=text/html:Join us for a Ribbon Cutting celebration at Envision Eye Care.&nbsp\; This event is free and open to the public.
LOCATION:Envision Eye Care 200 E. 5th Suite 1 Mitchell\, SD
UID:e.1624.19439
SEQUENCE:3
DTSTAMP:20260425T040144Z
URL:https://business.mitchellchamber.com/events/details/ribbon-cutting-at-envision-eye-care-19439
END:VEVENT

END:VCALENDAR
