BEGIN:VCALENDAR
VERSION:2.0
PRODID:-//ChamberMaster//Event Calendar 2.0//EN
METHOD:PUBLISH
X-PUBLISHED-TTL:P3D
REFRESH-INTERVAL:P3D
CALSCALE:GREGORIAN
BEGIN:VEVENT
DTSTART:20171214T163000Z
DTEND:20171214T170000Z
X-MICROSOFT-CDO-ALLDAYEVENT:FALSE
SUMMARY:Ribbon Cutting at Crane Realty
DESCRIPTION:Join us for a Ribbon Cutting Ceremony at Crane Realty Thursday\, December 14th at 10:30am.
X-ALT-DESC;FMTTYPE=text/html:Join us for a Ribbon Cutting Ceremony at Crane Realty Thursday\, December 14th at 10:30am.&nbsp\;&nbsp\;&nbsp\;&nbsp\;&nbsp\;&nbsp\;&nbsp\;&nbsp\;
LOCATION:The event will be at their new location of 106 W 5th Ste. 1.
UID:e.1624.9193
SEQUENCE:3
DTSTAMP:20260425T221244Z
URL:https://business.mitchellchamber.com/events/details/ribbon-cutting-at-crane-realty-9193
END:VEVENT

END:VCALENDAR
