BEGIN:VCALENDAR
VERSION:2.0
PRODID:-//ChamberMaster//Event Calendar 2.0//EN
METHOD:PUBLISH
X-PUBLISHED-TTL:P3D
REFRESH-INTERVAL:P3D
CALSCALE:GREGORIAN
BEGIN:VEVENT
DTSTART:20180223T170000Z
DTEND:20180223T173000Z
X-MICROSOFT-CDO-ALLDAYEVENT:FALSE
SUMMARY:Ribbon Cutting and Grand Opening at Scooter's Coffee
DESCRIPTION:Scooter's Coffee is hosting an Grand Opening Celebration and Ribbon Cutting Ceremony on February 23rd\, where all drinks will be $1 off\n\n(excluding Red Bull drinks).\n\n \n\nOn Grand Opening Day\, customers can also expect to receive several fun giveaways:\n\n\n10 a.m. - First 100 customers will receive a free $5 gift card with purchase\n\n1 p.m. - First 50 customers will receive a free Scooter's mug with purchase\n\n4 p.m. - First 50 customers will receive a free Scooter's t-shirt with purchase
X-ALT-DESC;FMTTYPE=text/html:&nbsp\;\n<div _mce_style="font-family: Arial\,Helvetica\,sans-serif\; font-size: 9pt\; margin-top: 0px\; margin-bottom: 0px\;" align="center" style="font-family: Arial\,Helvetica\,sans-serif\; font-size: 9pt\; margin-top: 0px\; margin-bottom: 0px\;"><strong>Scooter&#39\;s Coffee is hosting an Grand Opening Celebration and Ribbon Cutting </strong><strong>Ceremony </strong><strong>on</strong><strong> February 23rd\, where all drinks will be $1 off</strong></div>\n\n<div _mce_style="font-family: Arial\,Helvetica\,sans-serif\; font-size: 9pt\; margin-top: 0px\; margin-bottom: 0px\;" align="center" style="font-family: Arial\,Helvetica\,sans-serif\; font-size: 9pt\; margin-top: 0px\; margin-bottom: 0px\;"><strong>(excluding Red Bull drinks).</strong></div>\n\n<div _mce_style="font-family: Arial\,Helvetica\,sans-serif\; margin-top: 0px\; margin-bottom: 0px\;" align="center" style="font-family: Arial\,Helvetica\,sans-serif\; margin-top: 0px\; margin-bottom: 0px\;"><span>&nbsp\;</span></div>\n\n<div _mce_style="font-family: Arial\,Helvetica\,sans-serif\; font-size: 9pt\; margin-top: 0px\; margin-bottom: 0px\;" align="center" style="font-family: Arial\,Helvetica\,sans-serif\; font-size: 9pt\; margin-top: 0px\; margin-bottom: 0px\;"><span>On Grand Opening Day\, customers can also expect to receive several fun giveaways:</span></div>\n\n<div _mce_style="font-family: Arial\,Helvetica\,sans-serif\; font-size: 9pt\; margin-top: 0px\; margin-bottom: 0px\;" align="center" style="font-family: Arial\,Helvetica\,sans-serif\; font-size: 9pt\; margin-top: 0px\; margin-bottom: 0px\;">\n<p _mce_style="text-align: left\; margin-top: 0px\; margin-bottom: 0px\;" style="text-align: left\; margin-top: 0px\; margin-bottom: 0px\;"><span>10 a.m. - First 100 customers will receive a free $5 gift card with purchase</span></p>\n\n<p _mce_style="text-align: left\; margin-top: 0px\; margin-bottom: 0px\;" style="text-align: left\; margin-top: 0px\; margin-bottom: 0px\;"><span>1 p.m. - First 50 customers will receive a free Scooter&#39\;s mug with purchase</span></p>\n\n<p _mce_style="text-align: left\; margin-top: 0px\; margin-bottom: 0px\;" style="text-align: left\; margin-top: 0px\; margin-bottom: 0px\;"><span>4 p.m. - First 50 customers will receive a free Scooter&#39\;s t-shirt with purchase</span></p>\n</div>\n
LOCATION:321 E Havens
UID:e.1624.12191
SEQUENCE:3
DTSTAMP:20260425T185743Z
URL:https://business.mitchellchamber.com/events/details/ribbon-cutting-and-grand-opening-at-scooter-s-coffee-12191
END:VEVENT

END:VCALENDAR
