BEGIN:VCALENDAR
VERSION:2.0
PRODID:-//ChamberMaster//Event Calendar 2.0//EN
METHOD:PUBLISH
X-PUBLISHED-TTL:P3D
REFRESH-INTERVAL:P3D
CALSCALE:GREGORIAN
BEGIN:VEVENT
DTSTART:20221007T133000Z
DTEND:20221007T140000Z
X-MICROSOFT-CDO-ALLDAYEVENT:FALSE
SUMMARY:Ribbon Cutting - 401 Create by LifeQuest
DESCRIPTION:Join Connect Mitchell of the Mitchell Chamber of Commerce for a Ribbon Cutting Ceremony at 401 Create by LifeQuest after First Friday Coffee on Friday\, October 7\, 2022 starting at 8:30 a.m.\n\n\n\n401 Create by LifeQuest creates partnerships between members of the community and people with developmental disabilities supported by LifeQuest. Their vision is to provide a venue where people are supported and the community can unite in meaningful and memorable ways.
X-ALT-DESC;FMTTYPE=text/html:Join <em>Connect Mitchell</em> of the Mitchell Chamber of Commerce for a Ribbon Cutting Ceremony at 401 Create by LifeQuest after First Friday Coffee on Friday\, October 7\, 2022 starting at 8:30 a.m.<br />\n<br />\n401 Create by LifeQuest creates partnerships between members of the community and people with developmental disabilities supported by LifeQuest. Their vision is to provide a venue where people are supported and the community can unite in meaningful and memorable ways.&nbsp\;
LOCATION:401 Create by LifeQuest 401 N Main St Mitchell\, SD 57301
UID:e.1624.32825
SEQUENCE:3
DTSTAMP:20260421T170258Z
URL:https://business.mitchellchamber.com/events/details/ribbon-cutting-401-create-by-lifequest-32825
END:VEVENT

END:VCALENDAR
