BEGIN:VCALENDAR
VERSION:2.0
PRODID:-//ChamberMaster//Event Calendar 2.0//EN
METHOD:PUBLISH
X-PUBLISHED-TTL:P3D
REFRESH-INTERVAL:P3D
CALSCALE:GREGORIAN
BEGIN:VEVENT
DTSTART:20180407T000000Z
DTEND:20180407T023000Z
X-MICROSOFT-CDO-ALLDAYEVENT:FALSE
SUMMARY:REZA: Edge of Illusion Live
DESCRIPTION:Reza is recognized as one of today's most highly sought-after entertainers in the touring illusion industry\, delivering innovative\, engaging and spectacular performances worldwide.\n\n\n\nReza's recent tour and television appearances have astounded over 20 million viewers from across the World on networks such as MTV\, A&E\, The CW\, PBS\, Reelz\, CX\, Fuji\, and Telemundo as well as live venues including the Alamodome (San Antonio)\, Philips Arena (Atlanta)\, Villanova Pavilion (Philadelphia)\, and Mundo Imperial Forum (Acapulco)\, to name a few. Additionally\, Reza just completed a 100 show residency at The Starlite Theatre in Branson\, MO with his new show "Edge of Illusion\," a ground-breaking grand scale production which Reza... simultaneously designed to connect with the audience on a personal level. "Edge of Illusion" earned Reza high acclaim and as well as being voted "2016 Magician of the Year."\n\n\n\nReza began making his presence felt in the world of illusion at a very young age. His focus in the art began at the early age of seven after being inspired by a magic show in his hometown of Brookings\, South Dakota. By the age of fourteen\, Reza was landing significant gigs performing for resorts and large corporations across the Midwest. Fast forward to present day. The once youth magician prodigy is today one of the fastest rising stars in the industry\, with his mind set on changing the world's perception of magic. Reza is intriguing\, engaging\, and captivating. He has the ability to connect with his audiences and let them feel his magic on a personal level. He isn't just a magician. He is an entertainer.
X-ALT-DESC;FMTTYPE=text/html:<div class="text_exposed_root text_exposed" id="id_5ab2ce57299591946649777"><span class="_4n-j _fbReactionComponent__eventDetailsContentTags fsl" data-testid="event-permalink-details">Reza is recognized as one of today&#39\;s most highly sought-after entertainers in the touring illusion industry\, delivering innovative\, engaging and spectacular performances worldwide.<br />\n<br />\nReza&#39\;s recent tour and television appearances have astounded over 20 million viewers from across the World on networks such as MTV\, A&amp\;E\, The CW\, PBS\, Reelz\, CX\, Fuji\, and Telemundo as well as live venues including the Alamodome (San Antonio)\, Philips Arena (Atlanta)\, Villanova Pavilion (Philadelphia)\, and Mundo Imperial Forum (Acapulco)\, to name a few. Additionally\, Reza just completed a 100 show residency at The Starlite Theatre in Branson\, MO with his new show &quot\;Edge of Illusion\,&quot\; a ground-breaking grand scale production which Reza<span class="text_exposed_hide">...</span><span class="text_exposed_show"> simultaneously designed to connect with the audience on a personal level. &quot\;Edge of Illusion&quot\; earned Reza high acclaim and as well as being voted &quot\;2016 Magician of the Year.&quot\;<br />\n<br />\nReza began making his presence felt in the world of illusion at a very young age. His focus in the art began at the early age of seven after being inspired by a magic show in his hometown of Brookings\, South Dakota. By the age of fourteen\, Reza was landing significant gigs performing for resorts and large corporations across the Midwest. Fast forward to present day. The once youth magician prodigy is today one of the fastest rising stars in the industry\, with his mind set on changing the world&#39\;s perception of magic. Reza is intriguing\, engaging\, and captivating. He has the ability to connect with his audiences and let them feel his magic on a personal level. He isn&#39\;t just a magician. He is an entertainer.</span></span></div>\n
LOCATION:Highland Conference Center 2000 Highland Way Mitchell\, SD 57301
UID:e.1624.14339
SEQUENCE:3
DTSTAMP:20260425T161949Z
URL:https://business.mitchellchamber.com/events/details/reza-edge-of-illusion-live-14339
END:VEVENT

END:VCALENDAR
