BEGIN:VCALENDAR
VERSION:2.0
PRODID:-//ChamberMaster//Event Calendar 2.0//EN
METHOD:PUBLISH
X-PUBLISHED-TTL:P3D
REFRESH-INTERVAL:P3D
CALSCALE:GREGORIAN
BEGIN:VEVENT
DTSTART:20181225T000000Z
DTEND:20181225T010000Z
X-MICROSOFT-CDO-ALLDAYEVENT:FALSE
SUMMARY:Resurrection Lutheran Church Christmas Candlelight Service
DESCRIPTION:Please join us for a beautiful candlelight service at Resurrection Lutheran Church at 6:00 pm.
X-ALT-DESC;FMTTYPE=text/html:Please join us for a beautiful candlelight service at Resurrection Lutheran Church at 6:00 pm.
LOCATION:4013 North Main Street Mitchell SD 57301
UID:e.1624.18803
SEQUENCE:3
DTSTAMP:20260424T201934Z
URL:https://business.mitchellchamber.com/events/details/resurrection-lutheran-church-christmas-candlelight-service-18803
END:VEVENT

END:VCALENDAR
