BEGIN:VCALENDAR
VERSION:2.0
PRODID:-//ChamberMaster//Event Calendar 2.0//EN
METHOD:PUBLISH
X-PUBLISHED-TTL:P3D
REFRESH-INTERVAL:P3D
CALSCALE:GREGORIAN
BEGIN:VEVENT
DTSTART;VALUE=DATE:20200625
DTEND;VALUE=DATE:20200628
TRANSP:TRANSPARENT
X-MICROSOFT-CDO-ALLDAYEVENT:TRUE
SUMMARY:Restaurant Rumble
DESCRIPTION:Prepare your appetites and let's get ready to RUMBLE!!!! June 25th\, 26th and 27th we want YOU to decide the 2020 Restaurant Rumble winner.\n\nHow it works:\n\n1. Chose a participating business to Dine-In or get take-out from\n\n2. Order their "Restaurant Rumble Special" (Specials will be unveiled in the coming days)\n\n3. Create a social media post by tagging the business you're supporting and our Visit Mitchell page!\n\n\nThe winning restaurant will be decided based on how many social media tags they earn.\n\nEvery social media post will give you an opportunity to win gift cards from participating businesses!
X-ALT-DESC;FMTTYPE=text/html:<p style="color: rgb(28\, 30\, 33)\; display: block\; font-family: inherit\; font-size: 14px\; font-style: normal\; font-variant: normal\; font-weight: 400\; letter-spacing: normal\; margin-bottom: 6px\; margin-left: 0px\; margin-right: 0px\; margin-top: 0px\; orphans: 2\; text-align: left\; text-decoration: none\; text-indent: 0px\; text-transform: none\; -webkit-text-stroke-width: 0px\; white-space: normal\; word-spacing: 0px\;">Prepare your appetites and let&#39\;s get ready to RUMBLE!!!! June 25th\, 26th and 27th we want YOU to decide the 2020 Restaurant Rumble winner.<br />\n<u><strong>How it works:</strong></u><br />\n1. Chose a participating business to Dine-In or get take-out from<br />\n2. Order their &quot\;Restaurant Rumble Special&quot\; (Specials will be unveiled in the coming days)<br />\n3. Create a social media post by tagging the business you&#39\;re supporting and our Visit Mitchell page!</p>\n\n<div class="text_exposed_show" style="color: rgb(28\, 30\, 33)\; display: inline\; font-family: inherit\; font-size: 14px\; font-style: normal\; font-variant: normal\; font-weight: 400\; letter-spacing: normal\; orphans: 2\; text-align: left\; text-decoration: none\; text-indent: 0px\; text-transform: none\; -webkit-text-stroke-width: 0px\; white-space: normal\; word-spacing: 0px\;">\n<p style="font-family: inherit\; margin-bottom: 6px\; margin-left: 0px\; margin-right: 0px\; margin-top: 0px\;">The winning restaurant will be decided based on how many social media tags they earn.<br />\nEvery social media post will give you an opportunity to win gift cards from participating businesses!</p>\n</div>\n
LOCATION:Participating Businesses: 2nd & Lawler Coborn's Papa Murphy's Elixir Roasterie Perkins Zesto Crazy About Cupcakes Scoreboard Pub & Grill The Lake House Big Dummy's Wayne & Mary's Nutrition Corona Village Blarney's Rise Coffee West Coast Tacos Culver's El Columpio Mexican Restaurant
UID:e.1624.29747
SEQUENCE:3
DTSTAMP:20260420T094535Z
URL:https://business.mitchellchamber.com/events/details/restaurant-rumble-29747
END:VEVENT

END:VCALENDAR
