BEGIN:VCALENDAR
VERSION:2.0
PRODID:-//ChamberMaster//Event Calendar 2.0//EN
METHOD:PUBLISH
X-PUBLISHED-TTL:P3D
REFRESH-INTERVAL:P3D
CALSCALE:GREGORIAN
BEGIN:VEVENT
DTSTART:20190318T210000Z
DTEND:20190318T221500Z
X-MICROSOFT-CDO-ALLDAYEVENT:FALSE
SUMMARY:RENEW. RECHARGE. REINVIGORATE- A Community Focused Keynote Event
DESCRIPTION:Renew. Recharge. Reinvigorate your Community with speaker Ed Nichols! \n\n\n\nJoin us for a community-focused presentation with Ed Nichols from ENspire Consulting.  Ed will challenge you to look beyond the status quo and see new possibilities for the future of Mitchell.  This starts with you and can only be successful if we all work together.  Ed will suggest three main themes to help us envision a new Mitchell:  What is the Mitchell promise? What lens are you using to see Mitchell? Stop dreaming and start acting!\n\n \n\nEd is an experienced\, sought-after presenter and facilitator on strategic planning and team development.  Don't miss this great opportunity!\n\n\n\nThis event is brought to you by the Mitchell Area Chamber of Commerce\, Development\, Convention and Visitors Bureau and Main Street & Beyond.
X-ALT-DESC;FMTTYPE=text/html:<span>Renew. Recharge. Reinvigorate your Community with speaker Ed Nichols!&nbsp\;</span><br />\n<br />\nJoin us for a community-focused presentation with Ed Nichols from ENspire Consulting.&nbsp\; Ed will challenge you to look beyond the status quo and see new possibilities for the future of Mitchell.&nbsp\; This starts with you and can only be successful if we all work together.&nbsp\; Ed will suggest three main themes to help us envision a new Mitchell:&nbsp\; What is the Mitchell promise? What lens are you using to see Mitchell? Stop dreaming and start acting!<br />\n&nbsp\;<br />\nEd is an experienced\, sought-after presenter and facilitator on strategic planning and team development.&nbsp\; Don&rsquo\;t miss this great opportunity!<br />\n<br />\n<span>This event is brought to you by the Mitchell Area Chamber of Commerce\, Development\, Convention and Visitors Bureau and Main Street &amp\; Beyond.</span>
LOCATION:The Depot Freight House Room
UID:e.1624.23490
SEQUENCE:3
DTSTAMP:20260424T155409Z
URL:https://business.mitchellchamber.com/events/details/renew-recharge-reinvigorate-a-community-focused-keynote-event-23490
END:VEVENT

END:VCALENDAR
