BEGIN:VCALENDAR
VERSION:2.0
PRODID:-//ChamberMaster//Event Calendar 2.0//EN
METHOD:PUBLISH
X-PUBLISHED-TTL:P3D
REFRESH-INTERVAL:P3D
CALSCALE:GREGORIAN
BEGIN:VEVENT
DTSTART:20240413T180000Z
DTEND:20240413T190000Z
X-MICROSOFT-CDO-ALLDAYEVENT:FALSE
SUMMARY:PTSD Insights
DESCRIPTION:As Vietnam combat veterans\, our experiences left us with physical impairments\, chronic pain\, survivor's guilt\, moral distress\, and what today is called PTSD. Learning how to live with the impairments\, how to manage the pain\, and finding the inner peace and serenity essential to living a wholesome and productive life has been a continuous journey of self-discovery. It is our hope\, that by sharing our experiences\, you will also find ways to live your best possible life.
X-ALT-DESC;FMTTYPE=text/html:As Vietnam combat veterans\, our experiences left us with physical impairments\, chronic pain\, survivor&#39\;s guilt\, moral distress\, and what today is called PTSD. Learning how to live with the impairments\, how to manage the pain\, and finding the inner peace and serenity essential to living a wholesome and productive life has been a continuous journey of self-discovery. It is our hope\, that by sharing our experiences\, you will also find ways to live your best possible life.&nbsp\;
LOCATION:Mitchell VFW Post 2750 315 N. Main St. Mitchell\, SD 57301
UID:e.1624.36230
SEQUENCE:3
DTSTAMP:20260420T093123Z
URL:https://business.mitchellchamber.com/events/details/ptsd-insights-36230
END:VEVENT

END:VCALENDAR
