BEGIN:VCALENDAR
VERSION:2.0
PRODID:-//ChamberMaster//Event Calendar 2.0//EN
METHOD:PUBLISH
X-PUBLISHED-TTL:P3D
REFRESH-INTERVAL:P3D
CALSCALE:GREGORIAN
BEGIN:VEVENT
DTSTART:20180519T190000Z
DTEND:20180519T210000Z
X-MICROSOFT-CDO-ALLDAYEVENT:FALSE
SUMMARY:Princess and Superhero Fun Day
DESCRIPTION:Help the Family Visitation Center celebrate Supervised Visitation Awareness Month in May by attending the Princess and Superhero Fun Day. Come join us May 19th from 2:00 pm to 4:00 pm at the Davison County 4-H Fairgrounds. Admission is $5.00 per child and make sure to have the children wear Princess and Superhero gear!!\n\nWe have also added AtoZEntertainment Photo Booth to the event. Get you picture taken that day for $4.00.
X-ALT-DESC;FMTTYPE=text/html:Help the Family Visitation Center celebrate Supervised Visitation Awareness Month in May by attending the Princess and Superhero Fun Day. Come join us May 19th from 2:00 pm to 4:00 pm at the Davison County 4-H Fairgrounds. Admission is $5.00 per child and make sure to have the children wear Princess and Superhero gear!!<br />\nWe have also added AtoZEntertainment Photo Booth to the event. Get you picture taken that day for $4.00.
LOCATION:Davison County 4-H Fairgrounds 3200 West Havens Mitchell\, SD 57301
UID:e.1624.15198
SEQUENCE:3
DTSTAMP:20260425T142835Z
URL:https://business.mitchellchamber.com/events/details/princess-and-superhero-fun-day-15198
END:VEVENT

END:VCALENDAR
