BEGIN:VCALENDAR
VERSION:2.0
PRODID:-//ChamberMaster//Event Calendar 2.0//EN
METHOD:PUBLISH
X-PUBLISHED-TTL:P3D
REFRESH-INTERVAL:P3D
CALSCALE:GREGORIAN
BEGIN:VEVENT
DTSTART:20220824T150000Z
DTEND:20220824T160000Z
X-MICROSOFT-CDO-ALLDAYEVENT:FALSE
SUMMARY:Presidential Inauguration Special Guest Speaker
DESCRIPTION:The Dakota Wesleyan University community invites the public to a special guest speaker in honor of President Daniel R. Kittle's Inauguration. Casey Keckler is an intelligence officer with the U.S. Department of Homeland Security. Keckler will tell his story of two seminal moments - an AVRD diagnosis and being hit by a drunk driver - that made him reassess his life and influenced his subsequent navigation of employment within the federal government.
X-ALT-DESC;FMTTYPE=text/html:The Dakota Wesleyan University community invites the public to a special guest speaker in honor of President Daniel R. Kittle&#39\;s Inauguration. Casey Keckler is an intelligence officer with the U.S. Department of Homeland Security. Keckler will tell his story of two seminal moments - an AVRD diagnosis and being hit by a drunk driver - that made him reassess his life and influenced his subsequent navigation of employment within the federal government.
LOCATION:Dakota Wesleyan University Tiger Cafe (Inside the McGovern Library)
UID:e.1624.32681
SEQUENCE:3
DTSTAMP:20260421T202202Z
URL:https://business.mitchellchamber.com/events/details/presidential-inauguration-special-guest-speaker-32681
END:VEVENT

END:VCALENDAR
