BEGIN:VCALENDAR
VERSION:2.0
PRODID:-//ChamberMaster//Event Calendar 2.0//EN
METHOD:PUBLISH
X-PUBLISHED-TTL:P3D
REFRESH-INTERVAL:P3D
CALSCALE:GREGORIAN
BEGIN:VEVENT
DTSTART:20150613T150000Z
DTEND:20150613T160000Z
X-MICROSOFT-CDO-ALLDAYEVENT:FALSE
SUMMARY:Presentation by Dr. Mike Ferguson
DESCRIPTION:Sponsor: Aurora Plains Academy \n\nPresenter: Dr. Mike Ferguson-  Is a Minister\, blogger\, trainer\, speaker\, Psychologist\, and Suicidologist (someone who studies suicide\, suicide prevention\, intervention\, and postvention)\, He is the founder of a Christian Teen Text Helpline for teens in crisis\, as well as\, working to develop a national network of Text Counselors for the Teen Text Helpline.
X-ALT-DESC;FMTTYPE=text/html:<span style="font-family:calibri light\,sans-serif"><span style="font-size:12.0pt">Sponsor: Aurora Plains Academy </span></span><br />\n<span style="font-family:calibri light\,sans-serif"><span style="font-size:12.0pt">Presenter: Dr. Mike Ferguson- &nbsp\;Is a Minister\, blogger\, trainer\, speaker\, Psychologist\, and Suicidologist (someone who studies suicide\, suicide prevention\, intervention\, and postvention)\, He is the founder of a Christian Teen Text Helpline for teens in crisis\, as well as\, working to develop a national network of Text Counselors for the Teen Text Helpline.</span></span><br />\n&nbsp\;
LOCATION:Mitchell Assembly of God\, 1901 N. Sanborn Blvd\, Mitchell
UID:e.1624.1707
SEQUENCE:3
DTSTAMP:20260421T152648Z
URL:https://business.mitchellchamber.com/events/details/presentation-by-dr-mike-ferguson-06-13-2015-1707
END:VEVENT

END:VCALENDAR
