BEGIN:VCALENDAR
VERSION:2.0
PRODID:-//ChamberMaster//Event Calendar 2.0//EN
METHOD:PUBLISH
X-PUBLISHED-TTL:P3D
REFRESH-INTERVAL:P3D
CALSCALE:GREGORIAN
BEGIN:VEVENT
DTSTART:20191114T180000Z
DTEND:20191114T190000Z
X-MICROSOFT-CDO-ALLDAYEVENT:FALSE
SUMMARY:Pre-legislative Lunch with David Owen
DESCRIPTION:Join David Owen\, executive director of the SD Chamber of Commerce & Industry\, for a preview of the coming legislative session. This meeting will be co-hosted by the Rotary Club of Mitchell and the Mitchell Area Chamber of Commerce.
X-ALT-DESC;FMTTYPE=text/html:Join David Owen\, executive director of the SD Chamber of Commerce &amp\; Industry\, for a preview of the coming legislative session. This meeting will be co-hosted by the Rotary Club of Mitchell and the Mitchell Area Chamber of Commerce.
LOCATION:Mitchell Ramada Inn
UID:e.1624.27549
SEQUENCE:3
DTSTAMP:20260424T090403Z
URL:https://business.mitchellchamber.com/events/details/pre-legislative-lunch-with-david-owen-11-14-2019-27549
END:VEVENT

END:VCALENDAR
