BEGIN:VCALENDAR
VERSION:2.0
PRODID:-//ChamberMaster//Event Calendar 2.0//EN
METHOD:PUBLISH
X-PUBLISHED-TTL:P3D
REFRESH-INTERVAL:P3D
CALSCALE:GREGORIAN
BEGIN:VEVENT
DTSTART:20140410T170000Z
DTEND:20140410T180000Z
X-MICROSOFT-CDO-ALLDAYEVENT:FALSE
SUMMARY:Post-Legislative Tour Scheduled
DESCRIPTION:Post-Legislative Tour Scheduled\n\nDate: Thursday\, April 10\, 2014\n\nTime: 12:00 noon\n\nLocation: The Ramada\, 1525 W Havens Ave   Mitchell\n\nCost: $10 (non-Rotary members) includes lunch\; please RSVP by Thursday\, April 3 \n\n \n\nPlease join us for the post-legislative tour featuring David Owen\, President of the South Dakota Chamber of Commerce & Industry.  The luncheon is sponsored by the Mitchell Area Chamber of Commerce Governmental Affairs Committee. \n\n \n\nDavid Owen will recap the 2014 Legislative session and provide an explanation of the bills that were signed into law.\n\n \n\nTo participate please click the "Register Online" button above and complete the forms.\n\n\n\nAny questions\, please contact Rebecca at rebecca@mitchellchamber.com or 996-5567.
X-ALT-DESC;FMTTYPE=text/html:<h1 style="margin: 24pt 0in 0pt\;"><span style="font-size: 12pt\;"><font color="#365f91">Post-Legislative Tour Scheduled</font></span></h1>\n\n<p><b><span style="font-size: 12pt\;">Date:</span></b><span style="font-size: 12pt\;"> Thursday\, April 10\, 2014</span></p>\n\n<p><b><span style="font-size: 12pt\;">Time:</span></b><span style="font-size: 12pt\;"> 12:00 noon</span></p>\n\n<p><b><span style="font-size: 12pt\;">Location:</span></b><span style="font-size: 12pt\;"> The Ramada\, </span><span style="font-size: 12pt\;">1525 W Havens Ave &middot\; Mitchell</span></p>\n\n<p><b><span style="font-size: 12pt\;">Cost:</span></b><span style="font-size: 12pt\;"> $10 (non-Rotary members) includes lunch\; <u>please RSVP by Thursday\, April 3</u></span><u> </u></p>\n\n<p>&nbsp\;</p>\n\n<p><span style="font-size: 12pt\;">Please join us for the post-legislative tour featuring David Owen\, President of the South Dakota Chamber of Commerce &amp\; Industry.&nbsp\; The luncheon is sponsored by the Mitchell Area Chamber of Commerce Governmental Affairs Committee. </span></p>\n\n<p>&nbsp\;</p>\n\n<p><span style="font-size: 12pt\;">David Owen will recap the 2014 Legislative session and provide an explanation of the bills that were signed into law.</span></p>\n\n<p>&nbsp\;</p>\n\n<p><span style="font-size: 12pt\;">To participate please click the &quot\;Register Online&quot\; button above and complete the forms.<br />\n<br />\nAny questions\, please contact Rebecca at <a href="mailto:rebecca@mitchellchamber.com?subject=Post-Legislative%20Tour%20-%20April%2010th">rebecca@mitchellchamber.com</a> or 996-5567.</span><br />\n&nbsp\;</p>\n
LOCATION:Ramada Inn\, 1525 W. Havens Ave\, Mitchell
UID:e.1624.1135
SEQUENCE:3
DTSTAMP:20260421T202029Z
URL:https://business.mitchellchamber.com/events/details/post-legislative-tour-scheduled-04-10-2014-1135
END:VEVENT

END:VCALENDAR
