BEGIN:VCALENDAR
VERSION:2.0
PRODID:-//ChamberMaster//Event Calendar 2.0//EN
METHOD:PUBLISH
X-PUBLISHED-TTL:P3D
REFRESH-INTERVAL:P3D
CALSCALE:GREGORIAN
BEGIN:VEVENT
DTSTART:20150718T160000Z
DTEND:20150718T180000Z
X-MICROSOFT-CDO-ALLDAYEVENT:FALSE
SUMMARY:Pork Feed
DESCRIPTION:There will be a free will Pork feed at the Zion Lutheran Church parking lot\, located at East 3rd Ave. and N. Burr St. following the Rodeo parade. Proceeds from the free will offering will go to Delmont Zion Lutheran Church.
X-ALT-DESC;FMTTYPE=text/html:There will be a free will Pork feed at the Zion Lutheran Church parking lot\, located at East 3rd Ave. and N. Burr St. following the Rodeo parade. Proceeds from the free will offering will go to Delmont Zion Lutheran Church.
LOCATION:Zion Lutheran Church parking lot at East 3rd Ave and N. Burr St.\, Mitchell
UID:e.1624.1708
SEQUENCE:3
DTSTAMP:20260421T110222Z
URL:https://business.mitchellchamber.com/events/details/pork-feed-07-18-2015-1708
END:VEVENT

END:VCALENDAR
