BEGIN:VCALENDAR
VERSION:2.0
PRODID:-//ChamberMaster//Event Calendar 2.0//EN
METHOD:PUBLISH
X-PUBLISHED-TTL:P3D
REFRESH-INTERVAL:P3D
CALSCALE:GREGORIAN
BEGIN:VEVENT
DTSTART:20220808T153000Z
DTEND:20220808T203000Z
X-MICROSOFT-CDO-ALLDAYEVENT:FALSE
SUMMARY:Pool Tournament at James Valley Community Center
DESCRIPTION:8 Ball Pool Tournament - Wed.\, Aug. 8 @ 10:30 am - Draw For Partners $5 Entry - 1st Place: 50% payout plus 2 meals 2nd Place: 25% payout
X-ALT-DESC;FMTTYPE=text/html:8 Ball Pool Tournament - Wed.\, Aug. 8 @ 10:30 am - Draw For Partners $5 Entry - 1st Place: 50% payout plus 2 meals 2nd Place: 25% payout
LOCATION:James Valley Community Center 300 W 1st Ave\, Mitchell\, SD
UID:e.1624.32670
SEQUENCE:3
DTSTAMP:20260421T202219Z
URL:https://business.mitchellchamber.com/events/details/pool-tournament-at-james-valley-community-center-32670
END:VEVENT

END:VCALENDAR
