BEGIN:VCALENDAR
VERSION:2.0
PRODID:-//ChamberMaster//Event Calendar 2.0//EN
METHOD:PUBLISH
X-PUBLISHED-TTL:P3D
REFRESH-INTERVAL:P3D
CALSCALE:GREGORIAN
BEGIN:VEVENT
DTSTART:20190314T201500Z
DTEND:20190314T211500Z
X-MICROSOFT-CDO-ALLDAYEVENT:FALSE
SUMMARY:Pi Day
DESCRIPTION:Come enjoy free pie for Pi-Day!
X-ALT-DESC;FMTTYPE=text/html:Come enjoy free pie for Pi-Day!
LOCATION:Join us at either location Edgewood Assisted Living 501 E Spruce Edgewood Memory Care 2201 N Wisconsin Mitchell\, SD 57301
UID:e.1624.23754
SEQUENCE:3
DTSTAMP:20260424T155024Z
URL:https://business.mitchellchamber.com/events/details/pi-day-23754
END:VEVENT

END:VCALENDAR
