BEGIN:VCALENDAR
VERSION:2.0
PRODID:-//ChamberMaster//Event Calendar 2.0//EN
METHOD:PUBLISH
X-PUBLISHED-TTL:P3D
REFRESH-INTERVAL:P3D
CALSCALE:GREGORIAN
BEGIN:VEVENT
DTSTART:20220713T230000Z
DTEND:20220714T000000Z
X-MICROSOFT-CDO-ALLDAYEVENT:FALSE
SUMMARY:Phil Baker\, Musician
DESCRIPTION:You're invited to the Corn Palace Plaza on Wed. July 13 at 10:30am & 6pm for songs\, dancing\, and fun with Phil Baker\, musician from Sioux Falls AND face-painting with Darrell Barber Creative Force of Mitchell. This event is part of Mitchell Public Library's Summer Reading Program. Everyone is welcome. Questions? Contact Jean Patrick\, Children's Librarian: 605-995-8480.
X-ALT-DESC;FMTTYPE=text/html:You&#39\;re invited to the Corn Palace Plaza on Wed. July 13 at 10:30am &amp\; 6pm for songs\, dancing\, and fun with Phil Baker\, musician from Sioux Falls AND face-painting with Darrell Barber Creative Force of Mitchell. This event is part of Mitchell Public Library&#39\;s Summer Reading Program. Everyone is welcome. Questions? Contact Jean Patrick\, Children&#39\;s Librarian: 605-995-8480.
LOCATION:Corn Palace Plaza
UID:e.1624.32637
SEQUENCE:3
DTSTAMP:20260421T221156Z
URL:https://business.mitchellchamber.com/events/details/phil-baker-musician-07-13-2022-32637
END:VEVENT

END:VCALENDAR
