BEGIN:VCALENDAR
VERSION:2.0
PRODID:-//ChamberMaster//Event Calendar 2.0//EN
METHOD:PUBLISH
X-PUBLISHED-TTL:P3D
REFRESH-INTERVAL:P3D
CALSCALE:GREGORIAN
BEGIN:VEVENT
DTSTART:20220604T150000Z
DTEND:20220604T170000Z
X-MICROSOFT-CDO-ALLDAYEVENT:FALSE
SUMMARY:Pet Goats at Mitchell Public Library
DESCRIPTION:Come to the Mitchell Public Library to pet the goats on Sat. June 4 from 10-noon. They'll be on the west side of the building near the parking lot.  \n\nWhile you're at the library\, come inside to register for the Summer Reading Program. All ages welcome!
X-ALT-DESC;FMTTYPE=text/html:Come to the Mitchell Public Library to pet the goats on Sat. June 4 from 10-noon. They'll be on the west side of the building near the parking lot.  \n\nWhile you're at the library\, come inside to register for the Summer Reading Program. All ages welcome!
LOCATION:Mitchell Public Library 221 N. Duff Mitchell\, SD 57301
UID:e.1624.32550
SEQUENCE:3
DTSTAMP:20260421T234659Z
URL:https://business.mitchellchamber.com/events/details/pet-goats-at-mitchell-public-library-32550
END:VEVENT

END:VCALENDAR
