BEGIN:VCALENDAR
VERSION:2.0
PRODID:-//ChamberMaster//Event Calendar 2.0//EN
METHOD:PUBLISH
X-PUBLISHED-TTL:P3D
REFRESH-INTERVAL:P3D
CALSCALE:GREGORIAN
BEGIN:VEVENT
DTSTART:20220629T153000Z
DTEND:20220629T173000Z
X-MICROSOFT-CDO-ALLDAYEVENT:FALSE
SUMMARY:Pet a Calf with Author Amanda Radke
DESCRIPTION:On Wed. June 29 between 10:00-noon\, you can pet a calf outside the library near the parking lot. At 10:30 am & 11:30 am\, come inside the library to listen to nationally-known author and speaker Amanda Radke talk about her new book (C is for Sharing) and the importance of water for livestock. This event is part of Mitchell Public Library's Summer Reading Program. Everyone is welcome. Books will be available for purchase. Questions? Call Jean Patrick\, Children's Librarian: 605-995-8480.
X-ALT-DESC;FMTTYPE=text/html:On Wed. June 29 between 10:00-noon\, you can pet a calf outside the library near the parking lot. At 10:30 am &amp\; 11:30 am\, come inside the library to listen to nationally-known author and speaker Amanda Radke talk about her new book (C is for Sharing) and the importance of water for livestock. This event is part of Mitchell Public Library&#39\;s Summer Reading Program. Everyone is welcome. Books will be available for purchase. Questions? Call Jean Patrick\, Children&#39\;s Librarian: 605-995-8480.
LOCATION:Mitchell Public Library
UID:e.1624.32629
SEQUENCE:3
DTSTAMP:20260421T235054Z
URL:https://business.mitchellchamber.com/events/details/pet-a-calf-with-author-amanda-radke-32629
END:VEVENT

END:VCALENDAR
