BEGIN:VCALENDAR
VERSION:2.0
PRODID:-//ChamberMaster//Event Calendar 2.0//EN
METHOD:PUBLISH
X-PUBLISHED-TTL:P3D
REFRESH-INTERVAL:P3D
CALSCALE:GREGORIAN
BEGIN:VEVENT
DTSTART:20221027T210000Z
DTEND:20221028T010000Z
X-MICROSOFT-CDO-ALLDAYEVENT:FALSE
SUMMARY:Patzer Woodworking\, Inc. 40th Celebration Open House
DESCRIPTION:Patzer Woodworking\, Inc. is celebrating 40 years in business with a grand re-opening of their amazing showroom!\n\n\n\nJoin them Thursday\, October 27th for an open house from 4-8 p.m. There will be hors d'oeuvres\, beverages\, and shopping from local vendors! Located at 414 E Juniper Ave in Mitchell.\n\n\n\nYou can also check them out on Facebook or on their website at patzerwoodworking.com.
X-ALT-DESC;FMTTYPE=text/html:Patzer Woodworking\, Inc. is celebrating 40 years in business with a grand re-opening of their amazing showroom!<br />\n<br />\nJoin them Thursday\, October 27th for an open house from 4-8 p.m. There will be hors d&#39\;oeuvres\, beverages\, and shopping from local vendors! Located at 414 E Juniper Ave in Mitchell.<br />\n<br />\nYou can also check them out on <a href="https://www.facebook.com/patzerwoodworking" target="_blank">Facebook</a> or on their website at <a href="https://patzerwoodworking.com/" target="_blank">patzerwoodworking.com</a>.&nbsp\;
LOCATION:Patzer Woodworking\, Inc. 414 E Juniper Ave Mitchell\, SD 57301
UID:e.1624.32886
SEQUENCE:3
DTSTAMP:20260421T170424Z
URL:https://business.mitchellchamber.com/events/details/patzer-woodworking-inc-40th-celebration-open-house-32886
END:VEVENT

END:VCALENDAR
