BEGIN:VCALENDAR
VERSION:2.0
PRODID:-//ChamberMaster//Event Calendar 2.0//EN
METHOD:PUBLISH
X-PUBLISHED-TTL:P3D
REFRESH-INTERVAL:P3D
CALSCALE:GREGORIAN
BEGIN:VEVENT
DTSTART:20170911T170000Z
DTEND:20170911T180000Z
X-MICROSOFT-CDO-ALLDAYEVENT:FALSE
SUMMARY:Patriot Day - JVCC Day of Remembering
DESCRIPTION:Patriot Day   Monday\, September 11th @ Noon   Day of Remembering will be held at JVCC
X-ALT-DESC;FMTTYPE=text/html:<strong><em><span style="color:#00B050"><span style="font-size:12.0pt">Patriot Day &ndash\; Monday\, September 11<sup>th</sup> @ Noon &ndash\; Day of Remembering will be held at JVCC</span></span></em></strong>
LOCATION:James Valley Community Center - 300 W 1st Ave\, Mitchell
UID:e.1624.9063
SEQUENCE:3
DTSTAMP:20260426T033209Z
URL:https://business.mitchellchamber.com/events/details/patriot-day-jvcc-day-of-remembering-9063
END:VEVENT

END:VCALENDAR
