BEGIN:VCALENDAR
VERSION:2.0
PRODID:-//ChamberMaster//Event Calendar 2.0//EN
METHOD:PUBLISH
X-PUBLISHED-TTL:P3D
REFRESH-INTERVAL:P3D
CALSCALE:GREGORIAN
BEGIN:VEVENT
DTSTART:20180728T150000Z
DTEND:20180729T030000Z
X-MICROSOFT-CDO-ALLDAYEVENT:FALSE
SUMMARY:Parkston's Old Fashion Saturday
DESCRIPTION:Parkston's Old Fashion Saturday July 28th 10:00am-10:00pm East Park\n\n\n\nLive music\, inflatables\, ribfest\, bean bag tourney\, Poker Run\, vendors\, softball games\, beer garden.
X-ALT-DESC;FMTTYPE=text/html:<span style="font-family:arial\,sans-serif\;"><span style="font-size:10.0pt\;">Parkston&#39\;s Old Fashion Saturday July 28th 10:00am-10:00pm East Park<br />\n<br />\nLive music\, inflatables\, ribfest\, bean bag tourney\, Poker Run\, vendors\, softball games\, beer garden.</span></span>
LOCATION:East Park
UID:e.1624.15965
SEQUENCE:3
DTSTAMP:20260425T110936Z
URL:https://business.mitchellchamber.com/events/details/parkston-s-old-fashion-saturday-15965
END:VEVENT

END:VCALENDAR
