BEGIN:VCALENDAR
VERSION:2.0
PRODID:-//ChamberMaster//Event Calendar 2.0//EN
METHOD:PUBLISH
X-PUBLISHED-TTL:P3D
REFRESH-INTERVAL:P3D
CALSCALE:GREGORIAN
BEGIN:VEVENT
DTSTART:20220526T230000Z
DTEND:20220527T030000Z
X-MICROSOFT-CDO-ALLDAYEVENT:FALSE
SUMMARY:Parkston Amphitheater Rock Garden Tour
DESCRIPTION:The Harvest Band will play at 6:00pm\n\nRock Garden Tour will play from 7:00-10:00
X-ALT-DESC;FMTTYPE=text/html:The Harvest Band will play at 6:00pm<br />\nRock Garden Tour will play from 7:00-10:00
LOCATION:Parkston\, SD East Park
UID:e.1624.32524
SEQUENCE:3
DTSTAMP:20260422T014407Z
URL:https://business.mitchellchamber.com/events/details/parkston-amphitheater-rock-garden-tour-32524
END:VEVENT

END:VCALENDAR
