BEGIN:VCALENDAR
VERSION:2.0
PRODID:-//ChamberMaster//Event Calendar 2.0//EN
METHOD:PUBLISH
X-PUBLISHED-TTL:P3D
REFRESH-INTERVAL:P3D
CALSCALE:GREGORIAN
BEGIN:VEVENT
DTSTART:20171206T010000Z
DTEND:20171206T020000Z
X-MICROSOFT-CDO-ALLDAYEVENT:FALSE
SUMMARY:Parade of Lights
DESCRIPTION:Parade of Lights\n\nTheme: "A Movie Time Christmas"
X-ALT-DESC;FMTTYPE=text/html:Parade of Lights<br />\nTheme: &quot\;A Movie Time Christmas&quot\;
LOCATION:Mitchell's Main Street
UID:e.1624.9097
SEQUENCE:3
DTSTAMP:20260425T221244Z
URL:https://business.mitchellchamber.com/events/details/parade-of-lights-9097
END:VEVENT

END:VCALENDAR
