BEGIN:VCALENDAR
VERSION:2.0
PRODID:-//ChamberMaster//Event Calendar 2.0//EN
METHOD:PUBLISH
X-PUBLISHED-TTL:P3D
REFRESH-INTERVAL:P3D
CALSCALE:GREGORIAN
BEGIN:VEVENT
DTSTART:20181209T150000Z
DTEND:20181209T180000Z
X-MICROSOFT-CDO-ALLDAYEVENT:FALSE
SUMMARY:Pancake Breakfast Supporting Mitchell Catholic Youth Mission trip to Mexico
DESCRIPTION:The Youth will be serving pancakes\, sausage\, fruit\, coffee\, juice and water to benefit the Catholic Youth Mission trip to Mexico in July 2019.
X-ALT-DESC;FMTTYPE=text/html:The Youth will be serving pancakes\, sausage\, fruit\, coffee\, juice and water to benefit the Catholic Youth Mission trip to Mexico in July 2019.
LOCATION:Holy Family Church Basement 222 N. Kimball Street Mitchell\, SD 57301
UID:e.1624.20336
SEQUENCE:3
DTSTAMP:20260424T201934Z
URL:https://business.mitchellchamber.com/events/details/pancake-breakfast-supporting-mitchell-catholic-youth-mission-trip-to-mexico-20336
END:VEVENT

END:VCALENDAR
