BEGIN:VCALENDAR
VERSION:2.0
PRODID:-//ChamberMaster//Event Calendar 2.0//EN
METHOD:PUBLISH
X-PUBLISHED-TTL:P3D
REFRESH-INTERVAL:P3D
CALSCALE:GREGORIAN
BEGIN:VEVENT
DTSTART:20190203T150000Z
DTEND:20190203T190000Z
X-MICROSOFT-CDO-ALLDAYEVENT:FALSE
SUMMARY:Pancake Breakfast
DESCRIPTION:Pancake Breakfast supporting Mitchell Catholic Youth Mission Trip to MX serving: pancakes\, sausage\, fruit\, coffee\, juice
X-ALT-DESC;FMTTYPE=text/html:Pancake Breakfast supporting Mitchell Catholic Youth Mission Trip to MX serving: pancakes\, sausage\, fruit\, coffee\, juice
LOCATION:Holy Spirit Catholic Church 1401 W Cedar
UID:e.1624.22739
SEQUENCE:3
DTSTAMP:20260424T224232Z
URL:https://business.mitchellchamber.com/events/details/pancake-breakfast-22739
END:VEVENT

END:VCALENDAR
