BEGIN:VCALENDAR
VERSION:2.0
PRODID:-//ChamberMaster//Event Calendar 2.0//EN
METHOD:PUBLISH
X-PUBLISHED-TTL:P3D
REFRESH-INTERVAL:P3D
CALSCALE:GREGORIAN
BEGIN:VEVENT
DTSTART:20231104T120000Z
DTEND:20231104T210000Z
X-MICROSOFT-CDO-ALLDAYEVENT:FALSE
SUMMARY:Palace City Robot Rumble
DESCRIPTION:Robots from around the Midwest will come to battle it out at Mitchell's Corn Palace in the NEW 2023-2024 VEX Robotics game\, OVER-UNDER! Hosted by Kernels Robotics!
X-ALT-DESC;FMTTYPE=text/html:Robots from around the Midwest will come to battle it out at Mitchell&#39\;s Corn Palace in the NEW 2023-2024 VEX Robotics game\, OVER-UNDER! Hosted by Kernels Robotics!
LOCATION:The Corn Palace 604 N Main Street Mitchell\, SD 57301
UID:e.1624.35063
SEQUENCE:3
DTSTAMP:20260420T141738Z
URL:https://business.mitchellchamber.com/events/details/palace-city-robot-rumble-35063
END:VEVENT

END:VCALENDAR
