BEGIN:VCALENDAR
VERSION:2.0
PRODID:-//ChamberMaster//Event Calendar 2.0//EN
METHOD:PUBLISH
X-PUBLISHED-TTL:P3D
REFRESH-INTERVAL:P3D
CALSCALE:GREGORIAN
BEGIN:VEVENT
DTSTART:20220504T000000Z
DTEND:20220504T030000Z
X-MICROSOFT-CDO-ALLDAYEVENT:FALSE
SUMMARY:Palace City Jam 2022
DESCRIPTION:The Palace City Jam is our end of the year "jazz celebration" that will feature all of our wonderful jazz ensembles in the district.  The Mitchell Middle School Jazz Band will open the concert followed by the Tri-Tone Jazz Combo and then our high school jazz band will close the concert.
X-ALT-DESC;FMTTYPE=text/html:The Palace City Jam is our end of the year &quot\;jazz celebration&quot\; that will feature all of our wonderful jazz ensembles in the district.&nbsp\; The Mitchell Middle School Jazz Band will open the concert followed by the Tri-Tone Jazz Combo and then our high school jazz band will close the concert.
LOCATION:DWU Sherman Center Mitchell\, South Dakota
UID:e.1624.32064
SEQUENCE:3
DTSTAMP:20260422T013844Z
URL:https://business.mitchellchamber.com/events/details/palace-city-jam-2022-32064
END:VEVENT

END:VCALENDAR
